BEGIN:VCALENDAR
VERSION:2.0
PRODID:-//Eventin//Event Calendar//EN
CALSCALE:GREGORIAN
METHOD:PUBLISH
BEGIN:VEVENT
UID:79bf785f3df6a908b2c8ba83ee1649a1@amazingchurchle.org
SUMMARY:Wednesday Midweek Training
DESCRIPTION:
LOCATION:31712 Casino Dr\, Suite 6A Lake Elsinore\, CA 92530
DTSTAMP:20260420T024205Z
DTSTART:20260430T020000Z
DTEND:20260430T033000Z
END:VEVENT
END:VCALENDAR
