BEGIN:VCALENDAR
VERSION:2.0
PRODID:-//Eventin//Event Calendar//EN
CALSCALE:GREGORIAN
METHOD:PUBLISH
BEGIN:VEVENT
UID:dc3139c97285f88ff56464e9a2abca32@amazingchurchle.org
SUMMARY:Prayer Intercession
DESCRIPTION:
LOCATION:31712 Casino Dr\, Suite 6A Lake Elsinore\, CA 92530
DTSTAMP:20260420T112000Z
DTSTART:20260502T150000Z
DTEND:20260502T160000Z
END:VEVENT
END:VCALENDAR
