BEGIN:VCALENDAR
VERSION:2.0
PRODID:-//Eventin//Event Calendar//EN
CALSCALE:GREGORIAN
METHOD:PUBLISH
BEGIN:VEVENT
UID:142ab5c645edda02e29d39a5bb179553@amazingchurchle.org
SUMMARY:Sunday Service
DESCRIPTION:
LOCATION:Hybrid
DTSTAMP:20260423T134040Z
DTSTART:20260503T170000Z
DTEND:20260503T190000Z
END:VEVENT
END:VCALENDAR
